BEGIN:VCALENDAR
VERSION:2.0
PRODID:-//EEIHF - ECPv6.8.3//NONSGML v1.0//EN
CALSCALE:GREGORIAN
METHOD:PUBLISH
X-ORIGINAL-URL:https://eeihf.org
X-WR-CALDESC:Events for EEIHF
REFRESH-INTERVAL;VALUE=DURATION:PT1H
X-Robots-Tag:noindex
X-PUBLISHED-TTL:PT1H
BEGIN:VTIMEZONE
TZID:UTC
BEGIN:STANDARD
TZOFFSETFROM:+0000
TZOFFSETTO:+0000
TZNAME:UTC
DTSTART:20220101T000000
END:STANDARD
END:VTIMEZONE
BEGIN:VEVENT
DTSTART;TZID=UTC:20221209T080000
DTEND;TZID=UTC:20221209T170000
DTSTAMP:20260424T184731
CREATED:20210317T033125Z
LAST-MODIFIED:20231026T182934Z
UID:518-1670572800-1670605200@eeihf.org
SUMMARY:THE ROMA KING
DESCRIPTION:ARTUR CERARI\, THE ROMA KING\, IS COMING BACK TO CHICAGO – OCTOBER 2019\nDate & Time: October 20\, 2019\, from 3 p.m. to 8 p.m. Location: Minta Restaurant and Social Lounge\, 125 Randhurst Village Drive\, Mount Prospect \nDATE & TIME: OCTOBER 20\, 2019\, FROM 3 P.M. TO 8 P.M.\nLOCATION: MINTA RESTAURANT AND SOCIAL LOUNGE\, 125 RANDHURST VILLAGE DRIVE\, MOUNT PROSPECT\, IL 60056\nPRICE INCLUDES: ENTRANCE TO THE EVENT\, GREAT MOLDOVAN FOOD\, AND SOFT DRINKS\nARTUR CERARI\, the ROMA KING\, is back to the Chicago area\, IL\, USA and we want you to be the first ones to be informed about his arrival and his planned activity. The Eastern European Immigrant Hope Foundation in cooperation with International Foundation “Baronul Mircea Cerari” are delighted to announce that The King of All Roma is thrilled to reunite with all the members of EEIHF in Chicago IL\, to thank them for their continuance support for our organization and the causes of EEIHF. We would also like to welcome other supporters and guests to join us for a special event to take place on October 20\, 2019\, from 3 p.m. to 8 p.m.Our motto is to build new connections and engage the local community of Eastern European Immigrants of Roma\, Moldovan\, Russian\, Ukrainian and other backgrounds. The event will be offering a variety of entertainment activities such as hilarious tales\, anecdotes told by the charismatic Baron at a round table\, excellent Moldovan traditional folk and Roma music and with no doubt a special performance conducted by Artur Cerari on the accordion; last but not least the great Moldovan food and wine. Aside from the entertainment part of the event\, we would like to focus and put into discussion the achievements\, the struggles of the immigrant community and their potential solutions. We are looking forward to hearing your suggestions and ideas. We and Mr. Cerari highly appreciate your involvement and contribution. \n\nRESERVE YOUR SEAT NOW\n  \n\nThe seating in the Restaurant is limited. The first event in Chicago sold out a week before the announced date. If you missed it or were not able to grab a seat\, You Can Do It Know! Hurry up and reserve your ticket before it is gone!!! As promised\, all members in good standing have priority seating for this event.  CLICK HERE!The information about the event can be found below: Date & Time: October 20\, 2019\, from 3 p.m. to 8 p.m. Location: Minta Restaurant and Social Lounge\, 125 Randhurst Village Drive\, Mount Prospect\, IL 60056  Price: $120.00 per person – Special Price for Members: $89.00 – [upon initial purchase you will be charged the full amount and verification of the membership status – we will issue a refund to the original payment within 30 days. Thank you] **The ticket includes entrance to the event and enjoyment of great Moldovan Food & Entertainment** **Moldovan Wine and Other Drinks are Available for Purchase Separately \nFOR ANY QUESTIONS PLEASE EMAIIL US: eeimmigrant.hope@gmail.com\nOR TO RESERVE BY PHONE CALL THE NUMBER AND LEAVE A MESSAGE: +1 657-859-1775
URL:https://eeihf.org/event/play-for-the-world-with-us/
LOCATION:New York\, 8 King Street\, NY\, 101\, United States
ATTACH;FMTTYPE=image/jpeg:https://eeihf.org/wp-content/uploads/2023/10/ga-6.jpg
ORGANIZER;CN="Gary Jones":MAILTO:halpes@example.com
END:VEVENT
END:VCALENDAR